BEGIN:VCALENDAR
VERSION:2.0
PRODID:-//https://bvfr.org///NONSGML kigkonsult.se iCalcreator 2.10.15//
METHOD:PUBLISH
BEGIN:VEVENT
UID:20260424T100813CEST-3773AH4GNH@https://bvfr.org/
DTSTAMP:20260424T080813Z
DESCRIPTION:\n\n\n\nLiebe Jungmeister und BVFR-Mitglieder\,\nwir freuen uns
 \, Euch ein weiteres spannendes Seminar anbieten zu können\, auch dieses a
 nrechenbar für die 5* Reitsportsattlermeister Zertifizierung.\n\n\n\n\n\nU
 nser mittlerweile gut etabliertes Herbstseminar wächst an Teilnehmerzahl\,
  Informationsaustausch und Fachpraxis ­ stetig an\, bringt erfahrene Meist
 er mit Jungmeistern zusammen und alle miteinander immer ein gutes  Stück v
 orwärts!Im September 2026 treffen wir uns bei Natali Sauerwald im schönen 
 Oberrohrbach bei Rimbach\, in der Nähe von Eggenfelden\, im Niederbayrisch
 en Landkreis Rottal-Inn. Auf ihrem Reitplatz\, mit ihren Pferden und in ih
 rer Werkstatt wollen wir mal so richtig die Fakten checken: Mit verschiede
 nen Messsystemen werden wir die unterschiedlichsten Einflüsse auf\, im und
  unter dem Sattel bildlich darstellen\, werden Änderungen sofort messbar u
 nd sichtbar machen und im Anschluss alles dokumentieren.Kann eine Lammfell
 schabracke Druckspitzen besser als eine herkömmliche Satteldecke absorbier
 en? Wie wirkt sich ein geöffnetes Bügelschloss im Vergleich zu einem gesch
 lossenen auf den Pferderücken aus? Wie deutlich lassen sich die Kanten von
  Korrektureinlagen unter dem Sattel spüren? Verstärkt eine Vorgurtstrupfe 
 den Druck auf die Schulter? Und welchen Einfluss haben die Proportionen un
 d Gewicht sowie das Können des Reiters auf die Druckverteilung des Sattels
 ?\nWeitere Informationen und die Anmeldung folgen.  https://bvfr.org/angeb
 ote/veranstaltungen/ereignis/67-herbstseminar-satteldruckmessungen.html
DTSTART:20260831T220000Z
DTEND:20260929T220000Z
LOCATION:Oberrohrbach bei Rimbach  ()
SUMMARY:Herbstseminar Satteldruckmessungen 
URL:https://bvfr.org/angebote/veranstaltungen/ereignis/67-herbstseminar-sat
 teldruckmessungen.html
END:VEVENT
END:VCALENDAR
