BEGIN:VCALENDAR
VERSION:2.0
PRODID:-//https://bvfr.org///NONSGML kigkonsult.se iCalcreator 2.10.15//
METHOD:PUBLISH
BEGIN:VEVENT
UID:20260424T084903CEST-6210rsr8p4@https://bvfr.org/
DTSTAMP:20260424T064903Z
DESCRIPTION:Liebe Jungmeister\, liebe BVFR-Mitglieder\,\nIn diesem Jahr fad
  ein 3 in 1 Jungmeister Special (Fahrzeug) satt\, wir besichtigten drei Fi
 rmen an zwei Tagen. Firma Hoffmann Federkerne www.hoffmann-federkerne.deFi
 rma Höpke Möbelstoffe www.hoepke.deFirma Rohleder (Weberei) www.rohleder.c
 om\nWir bedanken uns\, bei allen drei Firmen für den  herzlichen Emfang un
 d die tollen Einblicke. Wir haben viel neues gelernt und spannende Einblic
 ke erhalten. Weiter dedanken wir uns bei unserem Kollegen Max Schelhorn fü
 r die Organisation und tolle Stadtführung durch Seßlach. Unvergessliche Mo
 mente\, die den Jungmeisterkreis ausmachen. \nVielen Dank!Für noch mehr De
 tails zu dem Seminar seid gespannt auf den Artikel\, der im Tagungsheft 20
 25 im November erscheint.\nProgrammablauf\nDonnerstag\, der 12.Juni 2025\n
 08.00 Uhr: Start bei Höpke Möbelstoff-Handels GmbH\, Simonsgasse 19-21\, 9
 6489Niederfüllbach08.15 Uhr: Begrüßung durch VL Stefan Ullmann und Inhaber
  Lars Maier08.30 Uhr: Präsentation Höpke09.00 Uhr: Gruppe 1 Betriebsführun
 g / Gruppe 2: Stoffschulung10.00 Uhr: Wechsel der Gruppen11.00 Uhr: Abfahr
 t zu Firma Rohleder GmbH\, Hofer Str. 25\, 95176 Konradsreuth (Weberei)12.
 30 Uhr: Eintreffen und Mittagssnack13.00 Uhr: Vorstellung Rohleder GmbH13.
 30 Uhr: Gruppe 1: Betriebsbesichtigung13.30 Uhr: Gruppe 2: Rohleder Qualit
 ät Q2 - Eigenschaften und Reinigung15.00 Uhr: Wechsel der Gruppen16.30 Uhr
 : Rückfahrt zum Hotel Fränkische Landherberge Hotel Garni Hans-Reiser-Stra
 ße 33\,96145 Seßlach18:30 Uhr: Abendveranstaltung (gemeinsames Essen in Se
 ßlach\, Selbstzahler!)\nFreitag\, der 13.Juni 2025\n08:00 Uhr: Start Firma
  Hoffmann Federkerne Industriestraße 15\, 96145 Seßlach09:15 Uhr: Firmen B
 esichtigung Hoffmann mit Einblick in die Produktion11:15 Uhr: Besichtigung
  Firma Sattlermax\, Poststraße 4A\, 96145 Seßlach (optional wennZeit)12:15
  Uhr: Mittagessen Gasthaus Reinwand\, Seßlach (Selbstzahler!)14:00 Uhr: Ta
 gungsende https://bvfr.org/angebote/veranstaltungen/ereignis/65-jungmeiste
 r-special-fahrzeug-im-frankenland.html
DTSTART:20250612T060000Z
DTEND:20250613T120000Z
LOCATION:Frankenland ()
SUMMARY:Jungmeister Special Fahrzeug im Frankenland
URL:https://bvfr.org/angebote/veranstaltungen/ereignis/65-jungmeister-speci
 al-fahrzeug-im-frankenland.html
END:VEVENT
END:VCALENDAR
