BEGIN:VCALENDAR
VERSION:2.0
PRODID:-//https://bvfr.org///NONSGML kigkonsult.se iCalcreator 2.10.15//
METHOD:PUBLISH
BEGIN:VEVENT
UID:20260424T084059CEST-6186I7zgIW@https://bvfr.org/
DTSTAMP:20260424T064059Z
DESCRIPTION:Bundesfachtagung der Sattler 06.–09. November 2025 Leipzig \nDi
 e Sattler treffen sich zur Bundesfachtagung dieses Jahr in Leipzig.\nTagun
 gshotel ist das Leipzig Marriott Hotel\, nahe dem Hauptbahnhof: www.marrio
 tt.com\nHighlights des Tagungsprogramms:\n\nMarkt der Neuheiten\nFachsemin
 ar Recht - Haftungsrisiken im Sattlerhandwerk\nSocial Media im Sattlerhand
 werk - Louisa Köhne berichtet aus Ihrem Influencer-Alltag\nInnovationsprei
 s des Sattlerhandwerks - verliehen durch den BVFR\nSattelsymposium - als e
 ines von 3 Modulen für die Zertifizierung zum 5***** Reitsportsattlermeist
 er\nVerlängerung der SAB-Zertifizierung. Dieses Seminar ist 5 Jahre nach E
 rstzertifizierung notwendig.\nKlassisch sächsische Küche im 'Auerbachs Kel
 ler'\nVölkerschlachtdenkmal Leipzig - Besuch mit Führung\n\nDie Anmeldefri
 st ist abgelaufen\, für Änderungen oder Korrekturen Ihrer Anmeldung setzte
 n Sie sich bitte mit der Geschäftsstelle in Verbindung!\nEinladung und Pro
 gramm finden Sie ganz unten bei > Dateien <Das Tagungsprogramm wird sich n
 och ändern\, bitte laden Sie sich vor der BST das endgültige Tagungsprogra
 mm hier herunter. https://bvfr.org/angebote/veranstaltungen/ereignis/64-bu
 ndessattlertagung-2025.html
DTSTART:20251106T090000Z
DTEND:20251109T090000Z
LOCATION:Marriott Leipzig (Brühl Arkade\, Am Hallischen Tor 1/04\, 04109 Le
 ipzig\, Deutschland)
SUMMARY:Bundessattlertagung 2025
URL:https://bvfr.org/angebote/veranstaltungen/ereignis/64-bundessattlertagu
 ng-2025.html
END:VEVENT
END:VCALENDAR
