BEGIN:VCALENDAR
VERSION:2.0
PRODID:-//https://bvfr.org///NONSGML kigkonsult.se iCalcreator 2.10.15//
METHOD:PUBLISH
BEGIN:VEVENT
UID:20260425T125452CEST-7613xNUrM6@https://bvfr.org/
DTSTAMP:20260425T105452Z
DESCRIPTION:\n\n\nLiebe Sattler-Kollegen\,\nim September fand ein ganz beso
 nderes Event in den Süden Deutschlands ein! Diesmal trafen sich Fahrzeugs
 attler und Reitsportsattler\, zwar zu unterschiedlichen Fortbildungen\, ab
 er am gleichen Ort und vor allem zum gleichen Rahmenprogramm. Auf vielfach
 en Wunsch besuchten wir gemeinsam das Oktoberfest in München.\nWir Fahrze
 ugsattler trafen uns im schönen Lamerdingen und befassten uns mit dem Satt
 lerhandwerk im digitalen Zeitalter. Uli Knoller stellte seinen Betrieb vor
 \, gab Tipps zur Digitalisierung von Schnittmustern\, stellte uns sein Pro
 jekt 'Interieurdesign - Zusammenarbeit mit einem Designer' vor. Am zweiten
  Tag zog Uli noch einen Experten hinzu\, der uns über Drucken\, CNC-Fräs
 en\, Laser-Gravur\, Folierung und ganz allgemein Werbetechnik viel zu erza
 ̈hlen hatte. Zwischendurch gab noch einen ganz besonderen Ausflug zur Fa. 
 RUF Automobile GmbH in Pfaffenhausen - ein Name\, der in Verbindung mit PO
 RSCHE die Augen aller Autofans (und damit wohl auch unsere)  zum Leuchten 
 bringt. \n >>mehr Informationen und vor allem tolles Bildmaterial findet i
 hr in unserem Tagungsheft 2025\, unter Angebote > Publikationen.\n\n\n\n\n
 \n \n\n https://bvfr.org/angebote/veranstaltungen/ereignis/62-septembersem
 inar-fahrzeug.html
DTSTART:20250925T080000Z
DTEND:20250927T140000Z
LOCATION:Lamerdingen ()
SUMMARY:Septemberseminar Fahrzeug
URL:https://bvfr.org/angebote/veranstaltungen/ereignis/62-septemberseminar-
 fahrzeug.html
END:VEVENT
END:VCALENDAR
