BEGIN:VCALENDAR
VERSION:2.0
PRODID:-//https://bvfr.org///NONSGML kigkonsult.se iCalcreator 2.10.15//
METHOD:PUBLISH
BEGIN:VEVENT
UID:20260423T132346CEST-4753OVaWnw@https://bvfr.org/
DTSTAMP:20260423T112346Z
DESCRIPTION:\n\n\n\n\n\n\nLiebe Jungmeister und BVFR-Mitglieder\,\ndieses J
 ahr freuen wir uns\, Euch ein weiteres spannendes Seminar anbieten zu könn
 en\, auch dieses anrechenbar für die 5* Reitsportsattlermeister Zertifizie
 rung.\n\n\n\n\n\nIm September luden wir Euch recht herzlich zu einem ganz 
 besonderen Event in den Süden Deutschlands ein! Diesmal trafen sich Fahrz
 eugsattler und Reitsportsattler\, zwar zu unterschiedlichen Fortbildungen\
 , aber am gleichen Ort. Aber vor allem zum gleichen Rahmenprogramm: Auf vi
 elfachen Wunsch besuchten wir in diesem Jahr gemeinsam das Oktoberfest in 
 München. \nWir Reitsportsattler machten uns auf den Weg nach Dießen in da
 s Tiermedizinische Behandlungszentrum Seehof\, dort hat Rosa Seltmann am F
 reitag zum Thema Sitzschulung und Balance referiert\, wie gewohnt in einem
  theoretischen und praktischen Teil. Der zweite Tag begann mit einer Führ
 ung über das Klinikgelände\, anschließend setzten wir das\, was wir am V
 ortag gelernt haben direkt bei Pferd und Reiter um. Das Seminar kann für d
 ie 5* Reitsportsattlermeister Zertifizierung angerechnet werden. \n>>Mehr 
 Informationen und vor allem mehr Bilder findet Ihr in unserem Tagungsheft 
 2025\, zu finden unter Angebote > Publikationen.\nProgramm:Donnerstag\, de
 n 25.09.2025\n\n\n\n\n10:30 Uhr Start am Hotel in Buchloe\, gemeinsame Fah
 rt mit der Regionalbahn nach München\n13:00 Uhr Kennenlernen des traditio
 nellen Oktoberfestes\, Brauereigespanne in Prunkgeschirren\, Blasmusik\, T
 racht und bayrisches Brauchtum - eine Führung von Insidern aus unseren Re
 ihen\n15:00 Uhr Treffen am Schottenhammel-Zelt\, jetzt startet der fröhli
 che Teil!\n22:00 Uhr gemeinsame Rückfahrt mit der Regionalbahn\n\n\nDie Ko
 sten für die Fahrt\, die Führung und den Tisch im Zelt inkl. 2 Maß Festb
 ier und 1/2 Hendl betragen 75\,-€\, (für weitere Speisen und Getränke un
 d Vergnügungen trägt jeder die Kosten selbst\, zur Orientierung: eine Ma
 ß Festbier ca. 16\,00 €) Die Plätze im Zelt sind begrenzt und werden nach
  Reihenfolge der Anmeldungen vergeben\, bitte habt Verständnis\, dass wir
  BVFR-Mitglieder bevorzugen und Partner und Mitarbeiter erst in zweiter In
 stanz berücksichtigt werden.\n\n\n\n\n \nFreitag\, den 26.09.2025\n\n\n\n
 \n10:00 Uhr Abfahrt am Hotel in Fahrgemeinschaften nach Dießen zum Tiermed
 izinischen Behandlungszentrum Seehof\n11:00 Uhr Vortrag Theorieteil Rosa S
 eltmann:Einfluss des Sattels auf den Reitersitz: Wie wirken sich Sitzgröß
 e\, Pauschen\, Bügellänge etc. auf den Sitz des Reiters aus\n13:00 Uhr M
 ittagsimbis\n\n\n14:00 Uhr Praktische Demonstration mit unterschiedlichen 
 Pferd-Reiterpaaren\n \n18:00 Uhr Rückfahrt in Fahrgemeinschaften ins Hotel
 \n\n\n\n19:00 Uhr Gemütliches Abendessen der Fahrzeug- und Reitsportsattl
 er im Restaurant Alp-Villa (Selbstzahler)\, liegt direkt gegenüber unsere
 m Hotel\n\n\n\n\n \nSamstag\, den 27.09.2025\n\n\n8:30 Uhr Abfahrt am Hote
 l in Fahrgemeinschaften nach Dießen zum Seehof9:30 Uhr Führung durch die 
 Seehofklinik durch Simone Jablonski11:00 Uhr Praktische Umsetzung und Erö
 rterung des am Vortag Gelernten Demonstrationen mit unterschiedlichen Pfer
 d-Reiterpaaren in verschiedenen Konstellationen\n\n\n\n\n12:30 Uhr Abschlu
 ssbesprechung mit kleinem Imbiss\n\n\n https://bvfr.org/angebote/veranstal
 tungen/ereignis/61-septemberseminar-reitsport.html
DTSTART:20250925T080000Z
DTEND:20250927T140000Z
LOCATION:Tiermedizinisches Behandlungszentrum Seehof (Seehof 2\, 86911 Dieß
 en am Ammersee)
SUMMARY:Septemberseminar Reitsport
URL:https://bvfr.org/angebote/veranstaltungen/ereignis/61-septemberseminar-
 reitsport.html
END:VEVENT
END:VCALENDAR
